BEGIN:VCALENDAR
VERSION:2.0
PRODID:-//Antimilitaristes-MOC València - ECPv6.15.20//NONSGML v1.0//EN
CALSCALE:GREGORIAN
METHOD:PUBLISH
X-WR-CALNAME:Antimilitaristes-MOC València
X-ORIGINAL-URL:https://mocvalencia.org
X-WR-CALDESC:Eventos para Antimilitaristes-MOC València
REFRESH-INTERVAL;VALUE=DURATION:PT1H
X-Robots-Tag:noindex
X-PUBLISHED-TTL:PT1H
BEGIN:VTIMEZONE
TZID:Europe/Madrid
BEGIN:DAYLIGHT
TZOFFSETFROM:+0100
TZOFFSETTO:+0200
TZNAME:CEST
DTSTART:20240331T010000
END:DAYLIGHT
BEGIN:STANDARD
TZOFFSETFROM:+0200
TZOFFSETTO:+0100
TZNAME:CET
DTSTART:20241027T010000
END:STANDARD
BEGIN:DAYLIGHT
TZOFFSETFROM:+0100
TZOFFSETTO:+0200
TZNAME:CEST
DTSTART:20250330T010000
END:DAYLIGHT
BEGIN:STANDARD
TZOFFSETFROM:+0200
TZOFFSETTO:+0100
TZNAME:CET
DTSTART:20251026T010000
END:STANDARD
BEGIN:DAYLIGHT
TZOFFSETFROM:+0100
TZOFFSETTO:+0200
TZNAME:CEST
DTSTART:20260329T010000
END:DAYLIGHT
BEGIN:STANDARD
TZOFFSETFROM:+0200
TZOFFSETTO:+0100
TZNAME:CET
DTSTART:20261025T010000
END:STANDARD
BEGIN:DAYLIGHT
TZOFFSETFROM:+0100
TZOFFSETTO:+0200
TZNAME:CEST
DTSTART:20270328T010000
END:DAYLIGHT
BEGIN:STANDARD
TZOFFSETFROM:+0200
TZOFFSETTO:+0100
TZNAME:CET
DTSTART:20271031T010000
END:STANDARD
END:VTIMEZONE
BEGIN:VEVENT
DTSTART;TZID=Europe/Madrid:20250928T120000
DTEND;TZID=Europe/Madrid:20250928T140000
DTSTAMP:20260424T012940
CREATED:20250916T110101Z
LAST-MODIFIED:20250916T110101Z
UID:2395-1759060800-1759068000@mocvalencia.org
SUMMARY:Reunió mensual d'Antimilitaristes-MOC València
DESCRIPTION:
URL:https://mocvalencia.org/agenda/reunio-mensual-dantimilitaristes-moc-valencia-2/
LOCATION:La Casa Verda\, C/ Portal de Valldigna 15\, bajo\, València\, València\, 46001\, Spain
ATTACH;FMTTYPE=image/png:https://mocvalencia.org/wp-content/uploads/2024/04/logo-moc-copy-1.png
ORGANIZER;CN="Antimilitaristes-MOC Val%C3%A8ncia":MAILTO:info@mocvalencia.org
END:VEVENT
BEGIN:VEVENT
DTSTART;VALUE=DATE:20251126
DTEND;VALUE=DATE:20251129
DTSTAMP:20260424T012940
CREATED:20251110T100609Z
LAST-MODIFIED:20251110T100609Z
UID:2403-1764115200-1764374399@mocvalencia.org
SUMMARY:Encuentro de la WRI-IRG en Barcelona
DESCRIPTION:Entre los próximos 26 y el 28 de noviembre en Barcelona\, Antimilitaristes-MOC València participaremos en el encuentro de la Internacional de Resistentes a la Guerra: “Desarmar el militarismo: Resistir la guerra\, construir la paz”\, un punto de encuentro para nuestra amplia y diversa red de activistas antimilitaristas y pacifistas de todo el mundo. \nhttps://wri-irg.org/es/articulo/2025/unanse-nosotras-en-barcelona-para-dias-de-paz-y-resistencia \nEventos públicos\nEn las tardes del 27 y 28 de noviembre\, nos acompañarán activistas de Palestina\, Colombia\, Sáhara Occidental\, Australia y Rusia\, quienes compartirán sus experiencias de resistencia en sus propios contextos y debatirán las estrategias que utilizan para seguir construyendo la paz en un mundo cada vez más militarizado. Estos eventos se llevarán a cabo en el Pati Manning (Carrer de Montalegre\, 7\, 08001 Barcelona) de 6pm a 7:30pm (ambos días) y estarán abiertos al público\, aunque agradeceríamos que te inscribieras previamente aquí. \nEl 29 de noviembre se proyectará un documental que expone la violencia dentro de los cuarteles del Ejército del Estado español durante el servicio militar obligatorio: una mirada crítica y necesaria a las estructuras militares que seguimos desafiando\, en un momento en que la conscripción vuelve a estar en la agenda de muchos países del mundo. La proyección de “Et faran un home” irá seguida de una mesa redonda con el director del documental\, Joan Torrents\, y especialistas en el tema. Tendrá lugar en la Casa Golferichs (Gran Via de les Corts Catalanes\, 491\, 08015 Barcelona)\, de 10:30am a 1:30pm. \nOtros eventos\nEl 26 de noviembre\, la Internacional de Resistentes a la Guerra (IRG) realizará su reunión anual del Consejo. Este será un espacio para seguir fortaleciendo nuestra red internacional. \nLos días 27 y 28 de noviembre\, de 10:00am a 4pm\, realizaremos reuniones estratégicas sobre Clima y Militarismo y sobre la Objeción de Conciencia al Servicio Militar. Si estás interesado/a en participar en la reunión anual del Consejo de la IRG y/o en los debates estratégicos\, por favor escribe a info@wri-irg.org para obtener más información. \nLa Internacional de Resistentes a la Guerra (IRG) y el Centre Delàs d’Estudis per la Pau han trabajado conjuntamente desde el año pasado para organizar este encuentro\, con el objetivo de conectar y vincular todo tipo de movimientos que resisten la guerra\, pero\, sobre todo\, que construyen la paz. \nEste encuentro en Barcelona no se trata solo de analizar el mundo en el que vivimos hoy\, sino de seguir reimaginándolo. “Desarmar el militarismo” no significa únicamente oponerse a las armas\, sino desmantelar las lógicas de poder\, miedo y dominación que las sostienen. Significa aprender a responder al conflicto con noviolencia\, a la inseguridad con justicia\, y al miedo con cuidado mutuo. \nEn un mundo donde la guerra se ha normalizado\, encontrarse para imaginar alternativas noviolentas es un acto urgente.
URL:https://mocvalencia.org/agenda/encuentro-de-la-wri-irg-en-barcelona/
ATTACH;FMTTYPE=image/png:https://mocvalencia.org/wp-content/uploads/2025/11/encuentro-IRG-barcelona.png
END:VEVENT
BEGIN:VEVENT
DTSTART;TZID=Europe/Madrid:20251130T100000
DTEND;TZID=Europe/Madrid:20251130T140000
DTSTAMP:20260424T012940
CREATED:20251110T093516Z
LAST-MODIFIED:20251110T093516Z
UID:2397-1764496800-1764511200@mocvalencia.org
SUMMARY:Taller d'accions noviolentes
DESCRIPTION:Juntem l’Associació Valenciana de Circ amb el MOC per a investigar eines pràctiques i estratègies per a planificar i realitzar accions noviolentes i intervencions a l’espai públic. Parlarem de la història de la noviolència i l’antimilitarisme i aprendrem a preparar accions i intervencions segures i creatives amb dinàmiques pràctiques\, amb les quals posarem el focus en estratègies comunicatives de desescalació. També parlarem dels nostres drets segons les lleis vigents\, la «llei mordassa» i maneres de comunicar amb la policia i autoritats. \nDesprés farem una picaeta/aperitiu. \nApuntat’t escrivint a info@mocvalencia.org
URL:https://mocvalencia.org/agenda/taller-daccions-noviolentes/
LOCATION:Espai de circ\, Carrer dels Ferrers 4\, Alboraia\, Spain
ATTACH;FMTTYPE=image/jpeg:https://mocvalencia.org/wp-content/uploads/2025/11/Taller-Espai-ed-Circ-30-11-25.jpg
ORGANIZER;CN="Antimilitaristes-MOC Val%C3%A8ncia":MAILTO:info@mocvalencia.org
END:VEVENT
BEGIN:VEVENT
DTSTART;TZID=Europe/Madrid:20260207T100000
DTEND;TZID=Europe/Madrid:20260207T143000
DTSTAMP:20260424T012940
CREATED:20260120T151501Z
LAST-MODIFIED:20260120T151501Z
UID:2459-1770458400-1770474600@mocvalencia.org
SUMMARY:Taller de desobediencia y acción directa en CGT-València
DESCRIPTION:Taller teórico-práctico «Desobediencia y acción noviolenta» \nImpartido por Antimilitaristes-MOC València (mocvalencia.org)\, y organizado por CGT-València \n¿Te interesaría formarte para poder incidir social y políticamente mediante la desobediencia civil y las acciones directas noviolentas?. \nVamos a realizar un taller participativo exprés en el que aprenderemos colectivamente a utilizar el poder de la noviolencia para la protesta y la transformación: \nQué es y por qué la desobediencia civil y la acción noviolenta. Abordar las actuaciones en los grupos de afinidad\, la toma de decisiones en asamblea\, consejos legales y técnicas de resistencia noviolenta y autoprotección. \nSábado 7 de febrero de 10:00 a 14:30 horas en la sede sindical de la Federación Local de CGT-València\, situada en la avenida del cid\, 154 de València. \nPara asistir al taller es imprescindible la inscripción mediante el teléfono 96 3834440\, el mail fed.local@cgtvalencia.org o acudiendo a nuestra sede sindical\, indicando nombre y apellidos\, teléfono y email.
URL:https://mocvalencia.org/agenda/taller-de-desobediencia-y-accion-directa-en-cgt-valencia/
LOCATION:CGT-València\, Av del Cid 154\, València\, Spain
ATTACH;FMTTYPE=image/jpeg:https://mocvalencia.org/wp-content/uploads/2026/01/taller-ADNV-CGT-Valencia-7-2-26.jpg
ORGANIZER;CN="CGT-Val%C3%A8ncia":MAILTO:fed.local@cgtvalencia.org
END:VEVENT
BEGIN:VEVENT
DTSTART;TZID=Europe/Madrid:20260328T153000
DTEND;TZID=Europe/Madrid:20260328T200000
DTSTAMP:20260424T012940
CREATED:20260205T000608Z
LAST-MODIFIED:20260330T104803Z
UID:2465-1774711800-1774728000@mocvalencia.org
SUMMARY:Comparsa antimilitarista a la cercavila del XV Carnestoltes de Russafa
DESCRIPTION:Bon dia! \nEnguany la nostra comparsa antimilitarista torna al carnestoltes de Russafa i et convidem a desfilar amb nosaltres dissabte 28 de març a la vesprada. \nAjuda’ns a impedir que el ninot gegant de quatre metres que traurem a passejar\, que representa militarisme i rearmament devore els recursos de tots i totes i s’empasse persones\, per defecar armes i guerres! Els pallassos i pallasses del Xexexèrcit/Jejejército necessiten de la teua col·laboració per tombar el gegant; allista’t amb nosaltres! 😉 \nContacta amb nosaltres i descobreix el teu pallasso o pallassa interior. Fem de la cercavila del carnestoltes de Russafa 2026 un declaració pacifista i antimilitarista contra el rearmament i les guerres… \nSalutacions!
URL:https://mocvalencia.org/agenda/comparsa-antimilitarista-a-la-cercavila-del-xv-carnestoltes-de-russafa/
LOCATION:Parc de Malilla
ATTACH;FMTTYPE=image/jpeg:https://mocvalencia.org/wp-content/uploads/2026/02/photo_5913502649393286379_x.jpg
END:VEVENT
BEGIN:VEVENT
DTSTART;TZID=Europe/Madrid:20260419T120000
DTEND;TZID=Europe/Madrid:20260419T140000
DTSTAMP:20260424T012940
CREATED:20260416T222217Z
LAST-MODIFIED:20260416T222217Z
UID:2577-1776600000-1776607200@mocvalencia.org
SUMMARY:Reunión de Antimilitaristes-MOC
DESCRIPTION:Reunión periódica de Antimilitaristes-MOC València
URL:https://mocvalencia.org/agenda/reunion-de-antimilitaristes-moc/
LOCATION:La Casa Verda\, C/ Portal de Valldigna 15\, bajo\, València\, València\, 46001\, Spain
ATTACH;FMTTYPE=image/png:https://mocvalencia.org/wp-content/uploads/2024/04/logo-moc-copy.png
ORGANIZER;CN="Antimilitaristes-MOC Val%C3%A8ncia":MAILTO:info@mocvalencia.org
END:VEVENT
BEGIN:VEVENT
DTSTART;TZID=Europe/Madrid:20260522T170000
DTEND;TZID=Europe/Madrid:20260524T210000
DTSTAMP:20260424T012940
CREATED:20260416T222955Z
LAST-MODIFIED:20260416T223018Z
UID:2581-1779469200-1779656400@mocvalencia.org
SUMMARY:Puesto de Antimilitaristes-MOC València en la Fira Alternativa
DESCRIPTION:Os esperamos en nuestro tradicional puesto en la Fira Alternativa de València. Camisetas\, bolsos\, postales\, chapas\, información antimilitarista… Hablamos!
URL:https://mocvalencia.org/agenda/puesto-de-antimilitaristas-moc-valencia-en-a-fira-alternativa/
LOCATION:Vell llit del Turia\, Entre pont de les Flors i de l'Exposició\, València\, España
ATTACH;FMTTYPE=image/jpeg:https://mocvalencia.org/wp-content/uploads/2026/04/fira2026.jpg
END:VEVENT
BEGIN:VEVENT
DTSTART;TZID=Europe/Madrid:20260523T180000
DTEND;TZID=Europe/Madrid:20260523T193000
DTSTAMP:20260424T012940
CREATED:20260416T222542Z
LAST-MODIFIED:20260416T222542Z
UID:2579-1779559200-1779564600@mocvalencia.org
SUMMARY:Charla-taller: cómo hacer objeción fiscal al rearme
DESCRIPTION:Charla-taller en el marco de la Fira Alternativa de València 2026
URL:https://mocvalencia.org/agenda/charla-taller-como-hacer-objecion-fiscal-al-rearme/
LOCATION:Vell llit del Turia\, Entre pont de les Flors i de l'Exposició\, València\, España
ATTACH;FMTTYPE=image/png:https://mocvalencia.org/wp-content/uploads/2016/04/Diptic-ODM-2026-cuad-1.png
END:VEVENT
END:VCALENDAR