BEGIN:VCALENDAR
VERSION:2.0
PRODID:-//Antimilitaristes-MOC València - ECPv6.15.20//NONSGML v1.0//EN
CALSCALE:GREGORIAN
METHOD:PUBLISH
X-ORIGINAL-URL:https://mocvalencia.org
X-WR-CALDESC:Eventos para Antimilitaristes-MOC València
REFRESH-INTERVAL;VALUE=DURATION:PT1H
X-Robots-Tag:noindex
X-PUBLISHED-TTL:PT1H
BEGIN:VTIMEZONE
TZID:UTC
BEGIN:STANDARD
TZOFFSETFROM:+0000
TZOFFSETTO:+0000
TZNAME:UTC
DTSTART:20240101T000000
END:STANDARD
END:VTIMEZONE
BEGIN:VEVENT
DTSTART;TZID=UTC:20250629T170000
DTEND;TZID=UTC:20250629T190000
DTSTAMP:20260424T094130
CREATED:20250128T143624Z
LAST-MODIFIED:20250628T164728Z
UID:2166-1751216400-1751223600@mocvalencia.org
SUMMARY:Reunió mensual d'Antimilitaristes-MOC València
DESCRIPTION:Reunió mensual d’organització d’Antimilitaristes-MOC València
URL:https://mocvalencia.org/agenda/reunio-mensual-dantimilitaristes-moc-valencia/
LOCATION:La Casa Verda\, C/ Portal de Valldigna 15\, bajo\, València\, València\, 46001\, Spain
ATTACH;FMTTYPE=image/png:https://mocvalencia.org/wp-content/uploads/2024/04/logo-moc-copy-1.png
END:VEVENT
END:VCALENDAR