BEGIN:VCALENDAR
VERSION:2.0
PRODID:-//Antimilitaristes-MOC València - ECPv6.15.20//NONSGML v1.0//EN
CALSCALE:GREGORIAN
METHOD:PUBLISH
X-ORIGINAL-URL:https://mocvalencia.org
X-WR-CALDESC:Eventos para Antimilitaristes-MOC València
REFRESH-INTERVAL;VALUE=DURATION:PT1H
X-Robots-Tag:noindex
X-PUBLISHED-TTL:PT1H
BEGIN:VTIMEZONE
TZID:Europe/Madrid
BEGIN:DAYLIGHT
TZOFFSETFROM:+0100
TZOFFSETTO:+0200
TZNAME:CEST
DTSTART:20240331T010000
END:DAYLIGHT
BEGIN:STANDARD
TZOFFSETFROM:+0200
TZOFFSETTO:+0100
TZNAME:CET
DTSTART:20241027T010000
END:STANDARD
BEGIN:DAYLIGHT
TZOFFSETFROM:+0100
TZOFFSETTO:+0200
TZNAME:CEST
DTSTART:20250330T010000
END:DAYLIGHT
BEGIN:STANDARD
TZOFFSETFROM:+0200
TZOFFSETTO:+0100
TZNAME:CET
DTSTART:20251026T010000
END:STANDARD
BEGIN:DAYLIGHT
TZOFFSETFROM:+0100
TZOFFSETTO:+0200
TZNAME:CEST
DTSTART:20260329T010000
END:DAYLIGHT
BEGIN:STANDARD
TZOFFSETFROM:+0200
TZOFFSETTO:+0100
TZNAME:CET
DTSTART:20261025T010000
END:STANDARD
END:VTIMEZONE
BEGIN:VEVENT
DTSTART;TZID=Europe/Madrid:20250523T160000
DTEND;TZID=Europe/Madrid:20250525T203000
DTSTAMP:20260424T111754
CREATED:20250430T144512Z
LAST-MODIFIED:20250430T144512Z
UID:2286-1748016000-1748205000@mocvalencia.org
SUMMARY:Paradeta d'Antimilitaristes-MOC València a la Fira Alternativa
DESCRIPTION:La tradicional paradeta informativa d’Antimilitaristes MOC-València a la Fira Alternativa de València. Llibres\, xapes\, postals\, samarretes\, tasses i altres materials informatius. Passa’t i et contem les últimes novetats sobre les nostres activitats i accions directes de desobediència civil.
URL:https://mocvalencia.org/agenda/paradeta-dantimilitaristes-moc-valencia-a-la-fira-alternativa/
LOCATION:Vell llit del Turia\, Entre pont de les Flors i de l'Exposició\, València\, España
ATTACH;FMTTYPE=image/jpeg:https://mocvalencia.org/wp-content/uploads/2025/04/CARTELLFIRABAIXA-scaled.jpg
END:VEVENT
BEGIN:VEVENT
DTSTART;TZID=Europe/Madrid:20250524T130000
DTEND;TZID=Europe/Madrid:20250524T140000
DTSTAMP:20260424T111754
CREATED:20250430T144036Z
LAST-MODIFIED:20250523T093528Z
UID:2283-1748091600-1748095200@mocvalencia.org
SUMMARY:Charla sobre objeción fiscal y gasto militar
DESCRIPTION:Xerrada-taller: Objecció fiscal antimilitarista: desobeïm l’onada militarista \nCarpa 2 de la XXXVI Fira Alternativa de València 2025 \nUn any més (i van 36) torna la Fira Alternativa de València\, plena d’activitats i continguts dissidents. I nosaltres estarem presents també amb la nostra estimada paradeta antimilitarista\, on podeu trobar\, samarretes\, llibres\, xapetes\, postals\, tasses i info en general. De divendres a la vesprada fins diumenge. No vos confongueu\, només n’hi ha una\, la del tanc rosa i els paraigües antimilitaristes! \nI també aprofitarem el marc de la fira per fer una xerrada-taller sobre què és i com fer objecció fiscal a la despesa militar: demà dissabte 24 de maig\, a las 13:00h a la Carpa 2 de la Fira. No paguem la guerra! Vos esperem si voleu compartir experiències\, resoldre dubtes o conèixer aquesta eina desobedient a l’abast de tothom contra la militarització i la preparació de la guerra. \nDesarma el teus impostos! No paguem la guerra!
URL:https://mocvalencia.org/agenda/charla-sobre-objecion-fiscal-y-gasto-militar/
LOCATION:Vell llit del Turia\, Entre pont de les Flors i de l'Exposició\, València\, España
ATTACH;FMTTYPE=image/png:https://mocvalencia.org/wp-content/uploads/2025/04/Charla-OF-Fira-Alternativa-2025.png
END:VEVENT
END:VCALENDAR